BEGIN:VCALENDAR
VERSION:2.0
PRODID:-//Carib Eats - ECPv6.9.1//NONSGML v1.0//EN
CALSCALE:GREGORIAN
METHOD:PUBLISH
X-WR-CALNAME:Carib Eats
X-ORIGINAL-URL:https://caribeats.org
X-WR-CALDESC:Events for Carib Eats
REFRESH-INTERVAL;VALUE=DURATION:PT1H
X-Robots-Tag:noindex
X-PUBLISHED-TTL:PT1H
BEGIN:VTIMEZONE
TZID:Europe/London
BEGIN:DAYLIGHT
TZOFFSETFROM:+0000
TZOFFSETTO:+0100
TZNAME:BST
DTSTART:20250330T010000
END:DAYLIGHT
BEGIN:STANDARD
TZOFFSETFROM:+0100
TZOFFSETTO:+0000
TZNAME:GMT
DTSTART:20251026T010000
END:STANDARD
END:VTIMEZONE
BEGIN:VEVENT
DTSTART;TZID=Europe/London:20250508T120000
DTEND;TZID=Europe/London:20250508T170000
DTSTAMP:20260425T023402
CREATED:20250412T055645Z
LAST-MODIFIED:20250412T055645Z
UID:1400-1746705600-1746723600@caribeats.org
SUMMARY:New Work Workshop
DESCRIPTION:By invitation only
URL:https://caribeats.org/event/new-work-workshop/
LOCATION:Black Cultural Centre\, 16-18 Hornsey Road\, London\, N7 7BT\, United Kingdom
ORGANIZER;CN="Carib Eats":MAILTO:caribeatsresidency@gmail.com
END:VEVENT
BEGIN:VEVENT
DTSTART;TZID=Europe/London:20250508T173000
DTEND;TZID=Europe/London:20250508T200000
DTSTAMP:20260425T023402
CREATED:20250417T153623Z
LAST-MODIFIED:20250428T091112Z
UID:1417-1746725400-1746734400@caribeats.org
SUMMARY:Wear Your Story: Fashion Masterclass!
DESCRIPTION:Dream of working in fashion?\nLed by two of London’s freshest creatives: \nTiana Esparon (BBC\, V&A\, Selfridges) \nNaomi Brady-Wilson (F1\, Arsenal F.C.\, K-Swiss) \n\n Upcycling\, branding & styling workshops\n Streetwear tips + creative career inspo\n No experience needed – just curiosity!\n\nGET YOUR TICKETS HERE
URL:https://caribeats.org/event/wear-your-story-fashion-masterclass/
LOCATION:Black Cultural Centre\, 16-18 Hornsey Road\, London\, N7 7BT\, United Kingdom
ORGANIZER;CN="Carib Eats":MAILTO:caribeatsresidency@gmail.com
END:VEVENT
BEGIN:VEVENT
DTSTART;TZID=Europe/London:20250509T110000
DTEND;TZID=Europe/London:20250509T150000
DTSTAMP:20260425T023402
CREATED:20250414T125651Z
LAST-MODIFIED:20250414T125651Z
UID:1412-1746788400-1746802800@caribeats.org
SUMMARY:Textile Art & Crochet Accessory Workshop
DESCRIPTION:
URL:https://caribeats.org/event/textile-art-crochet-accessory-workshop-4/
LOCATION:Black Cultural Centre\, 16-18 Hornsey Road\, London\, N7 7BT\, United Kingdom
ORGANIZER;CN="Carib Eats":MAILTO:caribeatsresidency@gmail.com
END:VEVENT
BEGIN:VEVENT
DTSTART;TZID=Europe/London:20250509T170000
DTEND;TZID=Europe/London:20250509T210000
DTSTAMP:20260425T023402
CREATED:20250216T090527Z
LAST-MODIFIED:20250216T093000Z
UID:1261-1746810000-1746824400@caribeats.org
SUMMARY:Emotional EQ Session
DESCRIPTION:Join us for a fun and interactive language learning experience at My EQ Learning Giving Language Program – Cycle 1 (18+)! This in-person event is the perfect opportunity to immerse yourself in a supportive environment. Come meet new friends\, practice your language skills\, and have a great time at The Black Cultural Centre. Don’t miss out on this exciting opportunity to expand your horizons and connect with others!
URL:https://caribeats.org/event/emotional-eq-session-11/
LOCATION:Black Cultural Centre\, 16-18 Hornsey Road\, London\, N7 7BT\, United Kingdom
ORGANIZER;CN="Carib Eats":MAILTO:caribeatsresidency@gmail.com
END:VEVENT
END:VCALENDAR