BEGIN:VCALENDAR
VERSION:2.0
PRODID:-//Carib Eats - ECPv6.9.1//NONSGML v1.0//EN
CALSCALE:GREGORIAN
METHOD:PUBLISH
X-WR-CALNAME:Carib Eats
X-ORIGINAL-URL:https://caribeats.org
X-WR-CALDESC:Events for Carib Eats
REFRESH-INTERVAL;VALUE=DURATION:PT1H
X-Robots-Tag:noindex
X-PUBLISHED-TTL:PT1H
BEGIN:VTIMEZONE
TZID:Europe/London
BEGIN:DAYLIGHT
TZOFFSETFROM:+0000
TZOFFSETTO:+0100
TZNAME:BST
DTSTART:20250330T010000
END:DAYLIGHT
BEGIN:STANDARD
TZOFFSETFROM:+0100
TZOFFSETTO:+0000
TZNAME:GMT
DTSTART:20251026T010000
END:STANDARD
END:VTIMEZONE
BEGIN:VEVENT
DTSTART;TZID=Europe/London:20250214T130000
DTEND;TZID=Europe/London:20250214T170000
DTSTAMP:20260425T040045
CREATED:20250213T154632Z
LAST-MODIFIED:20250213T164938Z
UID:1061-1739538000-1739552400@caribeats.org
SUMMARY:What's Love Got to Do with It?
DESCRIPTION:Let’s talk about love – the good\, the bad and the ugly. \nWhether you’re in love\, out of love or just figuring it all out\, join us for a relaxed drop-in discussion on what love really means.
URL:https://caribeats.org/event/whats-love-got-to-do-with-it/
LOCATION:Black Cultural Centre\, 16-18 Hornsey Road\, London\, N7 7BT\, United Kingdom
ORGANIZER;CN="Carib Eats":MAILTO:caribeatsresidency@gmail.com
END:VEVENT
BEGIN:VEVENT
DTSTART;TZID=Europe/London:20250212T110000
DTEND;TZID=Europe/London:20250212T140000
DTSTAMP:20260425T040045
CREATED:20250130T194715Z
LAST-MODIFIED:20250130T195819Z
UID:1049-1739358000-1739368800@caribeats.org
SUMMARY:Carib Eats Residency Launch at the Black Cultural Centre
DESCRIPTION:Wednesday\, 12 February\n\n\n\nCarib Eats – Islington Residency Launch Party!\n\n\n\n\nJoin us for the grand opening of Carib Eats’ Islington Residency \n – a day of Caribbean flavours\, great vibes and a LIVE DJ set by DJ AG! \n\nCLICK HERE FOR TICKETS
URL:https://caribeats.org/event/carib-eats-residency-launch-at-the-black-cultural-centre/
LOCATION:Black Cultural Centre\, 16-18 Hornsey Road\, London\, N7 7BT\, United Kingdom
ATTACH;FMTTYPE=image/png:https://caribeats.org/wp-content/uploads/2024/08/0608-1-copy-13.png
ORGANIZER;CN="Carib Eats":MAILTO:caribeatsresidency@gmail.com
END:VEVENT
END:VCALENDAR