BEGIN:VCALENDAR
VERSION:2.0
PRODID:-//Carib Eats - ECPv6.9.1//NONSGML v1.0//EN
CALSCALE:GREGORIAN
METHOD:PUBLISH
X-ORIGINAL-URL:https://caribeats.org
X-WR-CALDESC:Events for Carib Eats
REFRESH-INTERVAL;VALUE=DURATION:PT1H
X-Robots-Tag:noindex
X-PUBLISHED-TTL:PT1H
BEGIN:VTIMEZONE
TZID:Europe/London
BEGIN:DAYLIGHT
TZOFFSETFROM:+0000
TZOFFSETTO:+0100
TZNAME:BST
DTSTART:20250330T010000
END:DAYLIGHT
BEGIN:STANDARD
TZOFFSETFROM:+0100
TZOFFSETTO:+0000
TZNAME:GMT
DTSTART:20251026T010000
END:STANDARD
END:VTIMEZONE
BEGIN:VEVENT
DTSTART;TZID=Europe/London:20250505T120000
DTEND;TZID=Europe/London:20250505T200000
DTSTAMP:20260424T193800
CREATED:20250412T055455Z
LAST-MODIFIED:20250417T155529Z
UID:1398-1746446400-1746475200@caribeats.org
SUMMARY:Co-Working Space for Creatives & Acting Sessions with Cassie
DESCRIPTION:12-3pm FREE co working space for creatives. (Up to 10 participants) GET YOUR TICKETS HERE\n\n3-5pm £5 Self tape slate session (Up to 10 participants) GET YOUR TICKETS HERE\n\n5.30-8pm £5 Intro to acting for screen class (up to 6 participants) GET YOUR TICKETS HERE
URL:https://caribeats.org/event/co-working-space-for-creatives-acting-sessions-with-cassie/
LOCATION:Black Cultural Centre\, 16-18 Hornsey Road\, London\, N7 7BT\, United Kingdom
ORGANIZER;CN="Carib Eats":MAILTO:caribeatsresidency@gmail.com
END:VEVENT
END:VCALENDAR