BEGIN:VCALENDAR
VERSION:2.0
PRODID:-//Carib Eats - ECPv6.9.1//NONSGML v1.0//EN
CALSCALE:GREGORIAN
METHOD:PUBLISH
X-ORIGINAL-URL:https://caribeats.org
X-WR-CALDESC:Events for Carib Eats
REFRESH-INTERVAL;VALUE=DURATION:PT1H
X-Robots-Tag:noindex
X-PUBLISHED-TTL:PT1H
BEGIN:VTIMEZONE
TZID:Europe/London
BEGIN:DAYLIGHT
TZOFFSETFROM:+0000
TZOFFSETTO:+0100
TZNAME:BST
DTSTART:20250330T010000
END:DAYLIGHT
BEGIN:STANDARD
TZOFFSETFROM:+0100
TZOFFSETTO:+0000
TZNAME:GMT
DTSTART:20251026T010000
END:STANDARD
END:VTIMEZONE
BEGIN:VEVENT
DTSTART;TZID=Europe/London:20250429T093000
DTEND;TZID=Europe/London:20250429T123000
DTSTAMP:20260424T193746
CREATED:20250216T074710Z
LAST-MODIFIED:20250313T215119Z
UID:1237-1745919000-1745929800@caribeats.org
SUMMARY:Co-Working at the Black Cultural Centre
DESCRIPTION:A great opportunity for co-working in this unique space with the opportunity to meet others in the community. Come and join us!
URL:https://caribeats.org/event/co-working-at-the-black-cultural-centre-9/
LOCATION:Black Cultural Centre\, 16-18 Hornsey Road\, London\, N7 7BT\, United Kingdom
ORGANIZER;CN="Carib Eats":MAILTO:caribeatsresidency@gmail.com
END:VEVENT
BEGIN:VEVENT
DTSTART;TZID=Europe/London:20250429T133000
DTEND;TZID=Europe/London:20250429T163000
DTSTAMP:20260424T193746
CREATED:20250313T213435Z
LAST-MODIFIED:20250313T214757Z
UID:1353-1745933400-1745944200@caribeats.org
SUMMARY:Boost Your Organisational Income: Campaign Building
DESCRIPTION:Learn how to increase your organisation’s revenue by mastering the art of campaign building at our upcoming workshop! \nGET YOUR TICKETS HERE
URL:https://caribeats.org/event/boost-your-organisational-income-campaign-building/
LOCATION:Black Cultural Centre\, 16-18 Hornsey Road\, London\, N7 7BT\, United Kingdom
ORGANIZER;CN="Carib Eats":MAILTO:caribeatsresidency@gmail.com
END:VEVENT
END:VCALENDAR