BEGIN:VCALENDAR
VERSION:2.0
PRODID:-//Carib Eats - ECPv6.9.1//NONSGML v1.0//EN
CALSCALE:GREGORIAN
METHOD:PUBLISH
X-ORIGINAL-URL:https://caribeats.org
X-WR-CALDESC:Events for Carib Eats
REFRESH-INTERVAL;VALUE=DURATION:PT1H
X-Robots-Tag:noindex
X-PUBLISHED-TTL:PT1H
BEGIN:VTIMEZONE
TZID:Europe/London
BEGIN:DAYLIGHT
TZOFFSETFROM:+0000
TZOFFSETTO:+0100
TZNAME:BST
DTSTART:20250330T010000
END:DAYLIGHT
BEGIN:STANDARD
TZOFFSETFROM:+0100
TZOFFSETTO:+0000
TZNAME:GMT
DTSTART:20251026T010000
END:STANDARD
END:VTIMEZONE
BEGIN:VEVENT
DTSTART;TZID=Europe/London:20250316T113000
DTEND;TZID=Europe/London:20250316T160000
DTSTAMP:20260424T221814
CREATED:20250216T092035Z
LAST-MODIFIED:20250312T145028Z
UID:1279-1742124600-1742140800@caribeats.org
SUMMARY:All Women's Retreat
DESCRIPTION:This Spring Equinox\, we’re welcoming a NU chapter together with Awaken & Renew\, a day retreat designed to honour the elements\, the shift as a moment of renewal. BABY WE SHEDDING da winter weight\, clearing out stagnant energy and planting FRESH SEEDS for the SZN Aheadddddd \nThis gathering is part of something bigger – a Nu Wave of offerings in 2025. A new chapter. A year of expansion\, alignment\, and deeper devotion to holding space for ALL WOMEN OF THE WORLD. \nThis retreat is not just a moment\, but the beginning of many. A new rhythm. A new season. A new experience unfolding. A call to those who feel it. \nIf you feel drawn to this space\, it is for you. ✨ \nGET YOUR TICKETS HERE
URL:https://caribeats.org/event/all-womens-retreat/
LOCATION:Black Cultural Centre\, 16-18 Hornsey Road\, London\, N7 7BT\, United Kingdom
ORGANIZER;CN="Carib Eats":MAILTO:caribeatsresidency@gmail.com
END:VEVENT
BEGIN:VEVENT
DTSTART;TZID=Europe/London:20250316T173000
DTEND;TZID=Europe/London:20250316T200000
DTSTAMP:20260424T221814
CREATED:20250216T092155Z
LAST-MODIFIED:20250216T092155Z
UID:1281-1742146200-1742155200@caribeats.org
SUMMARY:Carib Eats: Warm Welcome – A Community Gathering
DESCRIPTION:Join us for Carib Eats Warm Welcome—a space where warmth\, nourishment\, and connection come together. Running on select evenings and weekends at the Black Cultural Centre\, 16-18 Hornsey Road\, Islington\, this initiative is all about providing a friendly\, relaxed environment where you can enjoy a hot\, delicious Caribbean-inspired meal\, connect with others\, and take part in uplifting community activities. \nEach session includes:  A hearty hot meal made with fresh\,\nStorytelling\, and conversation to nurture connection and well-being\nAdvice & support on  well-being\, and local services \nOur warm space is open to everyone—whether you’re looking for good food\, great company\, or a little extra support. Come along\, bring a friend\, and let’s share warmth together! \n Location: Black Cultural Centre\, 16-18 Hornsey Road\, Islington\, N7 7BT\nFor more details\, visit our website or email us at caribeatslondon@gmail.com \nCome as you are\, leave feeling nourished—in every way. We can’t wait to welcome you!
URL:https://caribeats.org/event/carib-eats-warm-welcome-a-community-gathering-9/
LOCATION:Black Cultural Centre\, 16-18 Hornsey Road\, London\, N7 7BT\, United Kingdom
ORGANIZER;CN="Carib Eats":MAILTO:caribeatsresidency@gmail.com
END:VEVENT
END:VCALENDAR